BEGIN:VCALENDAR
PRODID:The Seminole Hard Rock Winterfest Boat Parade
VERSION:2.0
METHOD:PUBLISH
BEGIN:VTIMEZONE
TZID:America/New_York
BEGIN:DAYLIGHT
TZOFFSETFROM:-0500
TZOFFSETTO:-0400
DTSTART:19700329T020000
RRULE:FREQ=YEARLY;BYDAY=-1SU;BYMONTH=3
END:DAYLIGHT
BEGIN:STANDARD
TZOFFSETFROM:-0400
TZOFFSETTO:-0500
DTSTART:19701025T030000
RRULE:FREQ=YEARLY;BYDAY=-1SU;BYMONTH=10
END:STANDARD
END:VTIMEZONE
BEGIN:VEVENT
SUMMARY:Parade Viewing Area
UID:https://winterfestparade.com/events/parade-viewing-area
LOCATION:Las Olas Intracoastal Promenade Park\, 80 Las Olas Circle\, Fort L
 auderdale\, FL 33316
DTSTAMP:20261212T160000
DTSTART;TZID=America/New_York:20261212T160000
DTEND;TZID=America/New_York:20261212T160000
DESCRIPTION:Winterfest Organized Outdoor Parade Viewing Area to watch the A
 nnual Seminole Hard Rock Winterfest Boat Parade. PARADE VIEWING AREA: South
 east corner of Las Olas Boulevard and the Intracoastal Waterway.
END:VEVENT
END:VCALENDAR