BEGIN:VCALENDAR
PRODID:The Seminole Hard Rock Winterfest Boat Parade
VERSION:2.0
METHOD:PUBLISH
BEGIN:VTIMEZONE
TZID:America/New_York
BEGIN:DAYLIGHT
TZOFFSETFROM:-0500
TZOFFSETTO:-0400
DTSTART:19700329T020000
RRULE:FREQ=YEARLY;BYDAY=-1SU;BYMONTH=3
END:DAYLIGHT
BEGIN:STANDARD
TZOFFSETFROM:-0400
TZOFFSETTO:-0500
DTSTART:19701025T030000
RRULE:FREQ=YEARLY;BYDAY=-1SU;BYMONTH=10
END:STANDARD
END:VTIMEZONE
BEGIN:VEVENT
SUMMARY:Grand Marshal Reception
UID:https://winterfestparade.com/events/grand-marshal-reception
LOCATION:Seminole Hard Rock Hotel & Casino\, 1 Seminole Way\, Hollywood\, F
 l 33314
DTSTAMP:20261211T190000
DTSTART;TZID=America/New_York:20261211T190000
DTEND;TZID=America/New_York:20261211T220000
DESCRIPTION:This Winterfest Celebration welcoming our Grand Marshal include
 s dignitaries and celebrities who join us at the Seminole Hard Rock Hotel &
  Casino to celebrate\, Winterfest style.
END:VEVENT
END:VCALENDAR