BEGIN:VCALENDAR
VERSION:2.0
PRODID:metaLAB (at) Harvard, Berlin & Basel
METHOD:PUBLISH
CALSCALE:GREGORIAN
BEGIN:VEVENT
CATEGORIES:metaLAB (at) Harvard, Berlin & Basel
UID:SunkCosts20250602T093533Z@metalab
DTSTART:20250705T100000Z
DTEND:20250709T100000Z
SUMMARY:Sunk Costs: The Saga of the Felicity Ace – Interactive sound installation at DIS 2025
DESCRIPTION:At DIS 2025 in Madeira, the installation Sunk Costs explores the shipwreck of the Felicity Ace through sound, sculpture, and speculative storytelling on global logistics and ecological fallout.\n\nhttps://dis.acm.org/2025/
URL:https://mlml.io/e/sunkcosts/
LOCATION:Funchal, Madeira, Portugal DIS 2025 Conference
DTSTAMP:20250602T093533Z
END:VEVENT
END:VCALENDAR