BEGIN:VCALENDAR
VERSION:2.0
PRODID:metaLAB (at) Harvard, Berlin & Basel
METHOD:PUBLISH
CALSCALE:GREGORIAN
BEGIN:VEVENT
CATEGORIES:metaLAB (at) Harvard, Berlin & Basel
UID:sherlock20240524T110135Z@metalab
DTSTART:20170810T200000Z
DTEND:20170810T210000Z
SUMMARY:Sherlock

URL:https://mlml.io/e/sherlock/
LOCATION:Cambridge, MA
DTSTAMP:20240524T110135Z
END:VEVENT
END:VCALENDAR