BEGIN:VCALENDAR
VERSION:2.0
PRODID:-//demosphere.net//NONSGML kigkonsult.se iCalcreator 2.22.1//
METHOD:PUBLISH
X-WR-CALNAME:Démosphère Lot
X-WR-CALDESC:Agenda alternatif de la région lotoise
X-WR-RELCALID:dc3b0559098a63d86ef796b240810e82
X-WR-TIMEZONE:Europe/Paris
BEGIN:VEVENT
UID:https://lot.demosphere.net/rv/8283
DTSTAMP:20260423T070000Z
DESCRIPTION:plus d'infos sur : https://lot.demosphere.net/rv/8283
DTSTART:20260423T070000Z
DTEND:20260423T080000Z
GEO:00;0
LOCATION:Creysse\, \nCreysse 46600
SUMMARY:Libertaire Plage : une semaine de camping anti-autoritaire et autog
 éré
URL:https://lot.demosphere.net/rv/8283
END:VEVENT
BEGIN:VEVENT
UID:https://lot.demosphere.net/rv/8361
DTSTAMP:20260423T183000Z
DESCRIPTION:plus d'infos sur : https://lot.demosphere.net/rv/8361
DTSTART:20260423T183000Z
DTEND:20260423T193000Z
GEO:00;0
LOCATION:Saint-Céré\, \nCinéma de Saint-Céré
SUMMARY:Film Pédale rurale
URL:https://lot.demosphere.net/rv/8361
END:VEVENT
BEGIN:VEVENT
UID:https://lot.demosphere.net/rv/8379
DTSTAMP:20260424T013300Z
DESCRIPTION:plus d'infos sur : https://lot.demosphere.net/rv/8379
DTSTART;VALUE=DATE:20260424
GEO:00;0
LOCATION:Prudhomat\, \nPrudhomat
SUMMARY:Journée de la Terre 20eme édition
URL:https://lot.demosphere.net/rv/8379
END:VEVENT
BEGIN:VEVENT
UID:https://lot.demosphere.net/rv/8282
DTSTAMP:20260424T070000Z
DESCRIPTION:plus d'infos sur : https://lot.demosphere.net/rv/8282
DTSTART:20260424T070000Z
DTEND:20260424T080000Z
GEO:00;0
LOCATION:Creysse\, \nCreysse 46600
SUMMARY:Libertaire Plage : une semaine de camping anti-autoritaire et autog
 éré
URL:https://lot.demosphere.net/rv/8282
END:VEVENT
BEGIN:VEVENT
UID:https://lot.demosphere.net/rv/8368
DTSTAMP:20260424T163000Z
DESCRIPTION:plus d'infos sur : https://lot.demosphere.net/rv/8368
DTSTART:20260424T163000Z
DTEND:20260424T173000Z
GEO:00;0
LOCATION:Cahors\, \nBourse du travail\, Cahors
SUMMARY:Conférence d'Histoire  présentée par Yann Kindo
URL:https://lot.demosphere.net/rv/8368
END:VEVENT
BEGIN:VEVENT
UID:https://lot.demosphere.net/rv/8366
DTSTAMP:20260424T170000Z
DESCRIPTION:plus d'infos sur : https://lot.demosphere.net/rv/8366
DTSTART:20260424T170000Z
DTEND:20260424T180000Z
GEO:00;0
LOCATION:Felzins\, \nCafé associatif Quinte&Sens
SUMMARY:JAM et scène ouverte (annulé)
URL:https://lot.demosphere.net/rv/8366
END:VEVENT
BEGIN:VEVENT
UID:https://lot.demosphere.net/rv/8284
DTSTAMP:20260425T070000Z
DESCRIPTION:plus d'infos sur : https://lot.demosphere.net/rv/8284
DTSTART:20260425T070000Z
DTEND:20260425T080000Z
GEO:00;0
LOCATION:Creysse\, \n46600 Creysse
SUMMARY:Libertaire Plage : une semaine de camping anti-autoritaire et autog
 éré
URL:https://lot.demosphere.net/rv/8284
END:VEVENT
BEGIN:VEVENT
UID:https://lot.demosphere.net/rv/8362
DTSTAMP:20260425T120000Z
DESCRIPTION:plus d'infos sur : https://lot.demosphere.net/rv/8362
DTSTART:20260425T120000Z
DTEND:20260425T130000Z
GEO:00;0
LOCATION:Biars-sur-Cère\, \nCinéma Robert Doisneau à Biars
SUMMARY:ATELIER CORPS -IMAGE // CINÉ FIERTÉS
URL:https://lot.demosphere.net/rv/8362
END:VEVENT
BEGIN:VEVENT
UID:https://lot.demosphere.net/rv/8363
DTSTAMP:20260425T120000Z
DESCRIPTION:plus d'infos sur : https://lot.demosphere.net/rv/8363
DTSTART:20260425T120000Z
DTEND:20260425T130000Z
GEO:00;0
LOCATION:Biars-sur-Cère\, \nCentre social et culturel Robert Doisneau\, Bia
 rs-sur-Cère
SUMMARY:ATELIER avec QUEER AS LOT // CINE FIERTÉS
URL:https://lot.demosphere.net/rv/8363
END:VEVENT
BEGIN:VEVENT
UID:https://lot.demosphere.net/rv/8364
DTSTAMP:20260425T160000Z
DESCRIPTION:plus d'infos sur : https://lot.demosphere.net/rv/8364
DTSTART:20260425T160000Z
DTEND:20260425T170000Z
GEO:00;0
LOCATION:Biars-sur-Cère\, \nCentre social et culturel Robert Doisneau\, Bia
 rs-sur-Cère
SUMMARY:Cinéma : Silver Star\, Ruben Amar et Lola Bessis\, 2024\, fiction.
URL:https://lot.demosphere.net/rv/8364
END:VEVENT
BEGIN:VEVENT
UID:https://lot.demosphere.net/rv/8378
DTSTAMP:20260425T173000Z
DESCRIPTION:plus d'infos sur : https://lot.demosphere.net/rv/8378
DTSTART:20260425T173000Z
DTEND:20260425T183000Z
GEO:00;0
LOCATION:Livernon\, \nLe Clan destin - Mas de la Biscle - Livernon
SUMMARY:Concert La Faille / Le Clan Destin soirée d'ouverture!
URL:https://lot.demosphere.net/rv/8378
END:VEVENT
BEGIN:VEVENT
UID:https://lot.demosphere.net/rv/8135
DTSTAMP:20260425T183000Z
DESCRIPTION:plus d'infos sur : https://lot.demosphere.net/rv/8135
DTSTART:20260425T183000Z
DTEND:20260425T193000Z
GEO:00;0
LOCATION:Alvignac\, \nEspace Samayou 46500 Alvignac
SUMMARY:ANNULé Concert de soutien WASHINGTON DEAD CATS
URL:https://lot.demosphere.net/rv/8135
END:VEVENT
BEGIN:VEVENT
UID:https://lot.demosphere.net/rv/8365
DTSTAMP:20260425T183000Z
DESCRIPTION:plus d'infos sur : https://lot.demosphere.net/rv/8365
DTSTART:20260425T183000Z
DTEND:20260425T193000Z
GEO:00;0
LOCATION:Biars-sur-Cère\, \nCinéma Robert Doisneau _ Biars-sur-Cère
SUMMARY:Ciné : Le mystérieux regard du Flamant rose\, 2025\, fiction // CIN
 E FIERTES
URL:https://lot.demosphere.net/rv/8365
END:VEVENT
BEGIN:VEVENT
UID:https://lot.demosphere.net/rv/8326
DTSTAMP:20260426T073000Z
DESCRIPTION:plus d'infos sur : https://lot.demosphere.net/rv/8326
DTSTART:20260426T073000Z
DTEND:20260426T083000Z
GEO:00;0
LOCATION:Lot\, \nLot
SUMMARY:Le lot de ferme en ferme
URL:https://lot.demosphere.net/rv/8326
END:VEVENT
BEGIN:VEVENT
UID:https://lot.demosphere.net/rv/8327
DTSTAMP:20260426T073000Z
DESCRIPTION:plus d'infos sur : https://lot.demosphere.net/rv/8327
DTSTART:20260426T073000Z
DTEND:20260426T083000Z
GEO:00;0
LOCATION:Cahors\, \n21 rue Joachim Murat
SUMMARY:Portes ouvertes  Le Lot de Ferme en ferme
URL:https://lot.demosphere.net/rv/8327
END:VEVENT
BEGIN:VEVENT
UID:https://lot.demosphere.net/rv/8337
DTSTAMP:20260427T183000Z
DESCRIPTION:plus d'infos sur : https://lot.demosphere.net/rv/8337
DTSTART:20260427T183000Z
DTEND:20260427T193000Z
GEO:00;0
LOCATION:Gramat\, \nMédiathèque / Cinéma l'Atelier
SUMMARY:Dans les gouffres à fossile du Quercy - Ciné rencontre
URL:https://lot.demosphere.net/rv/8337
END:VEVENT
BEGIN:VEVENT
UID:https://lot.demosphere.net/rv/8334
DTSTAMP:20260501T070000Z
DESCRIPTION:plus d'infos sur : https://lot.demosphere.net/rv/8334
DTSTART:20260501T070000Z
DTEND:20260501T080000Z
GEO:00;0
LOCATION:Saint-Céré\, \nPlace de la République Saint-Céré
SUMMARY:BOURSE AUX VÉLOS
URL:https://lot.demosphere.net/rv/8334
END:VEVENT
BEGIN:VEVENT
UID:https://lot.demosphere.net/rv/8373
DTSTAMP:20260501T083000Z
DESCRIPTION:plus d'infos sur : https://lot.demosphere.net/rv/8373
DTSTART:20260501T083000Z
DTEND:20260501T093000Z
GEO:00;0
LOCATION:Figeac\, \naux jardins de l’hôpital de Figeac.
SUMMARY:Manifestation 1er Mai - journée internationale des droits des trava
 illeur.se.s
URL:https://lot.demosphere.net/rv/8373
END:VEVENT
BEGIN:VEVENT
UID:https://lot.demosphere.net/rv/8372
DTSTAMP:20260501T090000Z
DESCRIPTION:plus d'infos sur : https://lot.demosphere.net/rv/8372
DTSTART:20260501T090000Z
DTEND:20260501T100000Z
GEO:00;0
LOCATION:Biars-sur-Cère\, \nDevant la mairie de Biars
SUMMARY:Manifestons le 1er Mai - 9journée internationale des droits des tra
 vailleur.se.s
URL:https://lot.demosphere.net/rv/8372
END:VEVENT
BEGIN:VEVENT
UID:https://lot.demosphere.net/rv/8374
DTSTAMP:20260501T090000Z
DESCRIPTION:plus d'infos sur : https://lot.demosphere.net/rv/8374
DTSTART:20260501T090000Z
DTEND:20260501T100000Z
GEO:00;0
LOCATION:Cahors\, \nPlace Mitterrand à Cahors
SUMMARY:Manifestation 1er Mai  -journée internationale des droits des trava
 illeur.se.s
URL:https://lot.demosphere.net/rv/8374
END:VEVENT
BEGIN:VEVENT
UID:https://lot.demosphere.net/rv/8375
DTSTAMP:20260501T120000Z
DESCRIPTION:plus d'infos sur : https://lot.demosphere.net/rv/8375
DTSTART:20260501T120000Z
DTEND:20260501T130000Z
GEO:00;0
LOCATION:Cahors\, \nSalle des Cheminots- parking gare Cahors
SUMMARY:Salon du Livre Social
URL:https://lot.demosphere.net/rv/8375
END:VEVENT
BEGIN:VEVENT
UID:https://lot.demosphere.net/rv/8335
DTSTAMP:20260502T120000Z
DESCRIPTION:plus d'infos sur : https://lot.demosphere.net/rv/8335
DTSTART:20260502T120000Z
DTEND:20260502T130000Z
GEO:00;0
LOCATION:Saint-Céré\, \nJardins du Pré d'Aubié \n46400 SAINT-CERE
SUMMARY:balade à vélo Saint Céré - Cornac
URL:https://lot.demosphere.net/rv/8335
END:VEVENT
BEGIN:VEVENT
UID:https://lot.demosphere.net/rv/8370
DTSTAMP:20260509T190000Z
DESCRIPTION:plus d'infos sur : https://lot.demosphere.net/rv/8370
DTSTART:20260509T190000Z
DTEND:20260509T200000Z
GEO:00;0
LOCATION:Floirac\, \nle Cantou de Floirac(sous la mairie)
SUMMARY:CONCERT du CANTOU de FLOIRAC le 09 mai 2026
URL:https://lot.demosphere.net/rv/8370
END:VEVENT
BEGIN:VEVENT
UID:https://lot.demosphere.net/rv/8355
DTSTAMP:20260514T013300Z
DESCRIPTION:plus d'infos sur : https://lot.demosphere.net/rv/8355
DTSTART;VALUE=DATE:20260514
GEO:00;0
LOCATION:Assier\, \nLe Copeau\, Assier
SUMMARY:Le Festival Plantez-là 
URL:https://lot.demosphere.net/rv/8355
END:VEVENT
BEGIN:VEVENT
UID:https://lot.demosphere.net/rv/8356
DTSTAMP:20260515T013300Z
DESCRIPTION:plus d'infos sur : https://lot.demosphere.net/rv/8356
DTSTART;VALUE=DATE:20260515
GEO:00;0
LOCATION:Assier\, \nLe Copeau\, Assier
SUMMARY:Le Festival Plantez-là 
URL:https://lot.demosphere.net/rv/8356
END:VEVENT
BEGIN:VEVENT
UID:https://lot.demosphere.net/rv/8357
DTSTAMP:20260516T013300Z
DESCRIPTION:plus d'infos sur : https://lot.demosphere.net/rv/8357
DTSTART;VALUE=DATE:20260516
GEO:00;0
LOCATION:Assier\, \nLe Copeau\, Assier
SUMMARY:Le Festival Plantez-là 
URL:https://lot.demosphere.net/rv/8357
END:VEVENT
BEGIN:VEVENT
UID:https://lot.demosphere.net/rv/8182
DTSTAMP:20260606T130000Z
DESCRIPTION:plus d'infos sur : https://lot.demosphere.net/rv/8182
DTSTART:20260606T130000Z
DTEND:20260606T140000Z
GEO:00;0
LOCATION:Figeac\, \nCafé associatif l'Arrosoir\, 5 rue de Crussol
SUMMARY:Atelier Slam à Figeac
URL:https://lot.demosphere.net/rv/8182
END:VEVENT
END:VCALENDAR
